BEGIN:VCALENDAR
VERSION:2.0
PRODID:Events Booking
BEGIN:VEVENT
UID:69e6f4e9e7e86
SUMMARY:Last day to REGISTER to vote in the primary
DESCRIPTION:
DTSTART:20260504T040000Z
DTSTAMP:20250302T215200Z
ORGANIZER;CN=League of Women Voters of Radnor Township:MAILTO:lwvradnor@gma
 il.com
END:VEVENT
END:VCALENDAR