BEGIN:VCALENDAR
VERSION:2.0
PRODID:Events Booking
BEGIN:VEVENT
UID:69e6f60c79503
SUMMARY:Last day to REGISTER to vote in the November election
DESCRIPTION:
DTSTART:20261019T040000Z
DTSTAMP:20240108T234603Z
ORGANIZER;CN=League of Women Voters of Radnor Township:MAILTO:lwvradnor@gma
 il.com
END:VEVENT
END:VCALENDAR