BEGIN:VCALENDAR
VERSION:2.0
PRODID:Events Booking
BEGIN:VEVENT
UID:69e6f2cec10b3
SUMMARY:2026 GENERAL ELECTION
DESCRIPTION:
DTSTART:20261103T120000Z
DTEND:20261104T010000Z
DTSTAMP:20240108T234759Z
ORGANIZER;CN=League of Women Voters of Radnor Township:MAILTO:lwvradnor@gma
 il.com
END:VEVENT
END:VCALENDAR